BEGIN:VCALENDAR
VERSION:2.0
PRODID:-//ipso! Alumni - ECPv6.15.14//NONSGML v1.0//EN
CALSCALE:GREGORIAN
METHOD:PUBLISH
X-WR-CALNAME:ipso! Alumni
X-ORIGINAL-URL:https://alumni.ipso.ch
X-WR-CALDESC:Veranstaltungen für ipso! Alumni
REFRESH-INTERVAL;VALUE=DURATION:PT1H
X-Robots-Tag:noindex
X-PUBLISHED-TTL:PT1H
BEGIN:VTIMEZONE
TZID:Europe/Zurich
BEGIN:DAYLIGHT
TZOFFSETFROM:+0100
TZOFFSETTO:+0200
TZNAME:CEST
DTSTART:20250330T010000
END:DAYLIGHT
BEGIN:STANDARD
TZOFFSETFROM:+0200
TZOFFSETTO:+0100
TZNAME:CET
DTSTART:20251026T010000
END:STANDARD
BEGIN:DAYLIGHT
TZOFFSETFROM:+0100
TZOFFSETTO:+0200
TZNAME:CEST
DTSTART:20260329T010000
END:DAYLIGHT
BEGIN:STANDARD
TZOFFSETFROM:+0200
TZOFFSETTO:+0100
TZNAME:CET
DTSTART:20261025T010000
END:STANDARD
BEGIN:DAYLIGHT
TZOFFSETFROM:+0100
TZOFFSETTO:+0200
TZNAME:CEST
DTSTART:20270328T010000
END:DAYLIGHT
BEGIN:STANDARD
TZOFFSETFROM:+0200
TZOFFSETTO:+0100
TZNAME:CET
DTSTART:20271031T010000
END:STANDARD
END:VTIMEZONE
BEGIN:VEVENT
DTSTART;TZID=Europe/Zurich:20260506T190000
DTEND;TZID=Europe/Zurich:20260506T200000
DTSTAMP:20260423T221043
CREATED:20250929T124342Z
LAST-MODIFIED:20260220T133954Z
UID:10000024-1778094000-1778097600@alumni.ipso.ch
SUMMARY:Masterclass Selbstbehandlung bei Kopfschmerzen 🤕
DESCRIPTION:Selbstbehandlung bei Kopfschmerzen nach den Grundsätzen der TCM \n📍 Wo: Online \n⌚ Wann: Mittwoch\, 06.05.2026 von 19.00 – 20.00 Uhr \n👉 Infos zum Event \nEntdecke die verschiedenen Arten von Kopfschmerzen aus Sicht der Traditionellen Chinesischen Medizin (TCM) und lerne\, wie deren Ursache energetisch verstanden wird. Du erhältst praxisnahe Techniken und Anwendungen\, mit denen du dich selbst effektiv unterstützen kannst – alltagstauglich\, sicher und sofort umsetzbar. \n🙌 Was dich erwartet:\n•  Einführung in die TCM-spezifische Differenzierung von Kopfschmerzen\n•  Verständnis der energetischen Hintergründe und Auslöser\n•  Praktische Anleitungen zur Selbstbehandlung\n•  Tipps zur Prävention und Stabilisierung des Wohlbefindens \n❗ Teilnehmende: Max. 25 Personen\, Min. 5 Personen
URL:https://alumni.ipso.ch/event/online-masterclass-selbstbehandlung-bei-kopfschmerzen/
CATEGORIES:Alle Veranstaltungen,Online
ATTACH;FMTTYPE=image/jpeg:https://alumni.ipso.ch/app/uploads/2025/09/alumni-website-masterclass-selbstbehandlung-kopfschmerzen-scaled.jpg
LOCATION:https://alumni.ipso.ch/event/online-masterclass-selbstbehandlung-bei-kopfschmerzen/
END:VEVENT
END:VCALENDAR